BEGIN:VCALENDAR
VERSION:2.0
PRODID:-// - ECPv6.15.20//NONSGML v1.0//EN
CALSCALE:GREGORIAN
METHOD:PUBLISH
X-ORIGINAL-URL:https://berlinbrewingco.com
X-WR-CALDESC:Events for 
REFRESH-INTERVAL;VALUE=DURATION:PT1H
X-Robots-Tag:noindex
X-PUBLISHED-TTL:PT1H
BEGIN:VTIMEZONE
TZID:UTC
BEGIN:STANDARD
TZOFFSETFROM:+0000
TZOFFSETTO:+0000
TZNAME:UTC
DTSTART:20250101T000000
END:STANDARD
END:VTIMEZONE
BEGIN:VEVENT
DTSTART;TZID=UTC:20260502T183000
DTEND;TZID=UTC:20260502T230000
DTSTAMP:20260422T054414
CREATED:20260421T213839Z
LAST-MODIFIED:20260421T225733Z
UID:7707-1777746600-1777762800@berlinbrewingco.com
SUMMARY:🎶🔥BIG ZEN ENTERTAINMENT RETURNS WITH A NIGHT OF ORIGINAL MUSIC!
DESCRIPTION:We’re thrilled to welcome BIG ZEN Entertainment and this incredible lineup of musicians back for another unforgettable night of original music\, great beer\, and good company. \nCome out for quality craft brews\, a stellar mix of local talent\, and that feel‑good community vibe we all love. Our friends at Los Gordos will be on-site serving up their tasty goodies. The perfect pairing for a night like this. \n$10 Cover 💵 \nFree Parking 🅿️ \nDoors open at 6:30 PM ⏰ \nFeaturing Live Performances By:\n\nPete Scavello\nMother Dynamite\nSeems Like Tuesday\nThe Goodbyes\n\nIt’s going to be a night full of energy\, creativity\, and great music from start to finish. Cheers! 🍻
URL:https://berlinbrewingco.com/events/%f0%9f%8e%b6%f0%9f%94%a5big-zen-entertainment-returns-with-a-night-of-original-music/
LOCATION:Berlin Brewing Company\, 220 S. White Horse Pike\, Berlin\, NJ\, 08009\, United States
CATEGORIES:Festival,Food Truck,Music,Social Gathering
ATTACH;FMTTYPE=image/jpeg:https://berlinbrewingco.com/wp-content/uploads/2026/04/Seems-Like-Tuesday-May-2-2026.jpeg
END:VEVENT
BEGIN:VEVENT
DTSTART;TZID=UTC:20260508T190000
DTEND;TZID=UTC:20260508T220000
DTSTAMP:20260422T054414
CREATED:20260421T212041Z
LAST-MODIFIED:20260421T212148Z
UID:7703-1778266800-1778277600@berlinbrewingco.com
SUMMARY:🔥Steve Dee Band Album Release Party — “Shack Tracks” Hits Vinyl!
DESCRIPTION:We’re turning the taproom into a full‑blown celebration as the Steve Dee Band drops their brand‑new vinyl\, Shack Tracks! Come raise a glass with us\, listen to some fresh tunes\, and party with us as we welcome this killer release into the world. \nThe night kicks off at 8 PM with opening sets from Rusty Pigeon\, Michael Naphys\, and Oscar Capps — the perfect warm‑up before Steve Dee Band takes over and brings the house down. \nYou already know the beer lineup is going to be on point: fresh craft brews\, seasonal favorites\, and our fan‑favorite Root Beer pouring all night long. \nAnd because great music deserves great food\, JAMS Eats will be onsite serving up their delicious menu\, including a veggie option so everyone’s covered. \nThis is going to be one of those nights that just feels good — live music\, cold beer\, good food\, and a room full of people ready to celebrate. Don’t miss it.
URL:https://berlinbrewingco.com/events/%f0%9f%94%a5steve-dee-band-album-release-party-shack-tracks-hits-vinyl/
LOCATION:Berlin Brewing Company\, 220 S. White Horse Pike\, Berlin\, NJ\, 08009\, United States
CATEGORIES:Festival,Food Truck,Music,Social Gathering
ATTACH;FMTTYPE=image/jpeg:https://berlinbrewingco.com/wp-content/uploads/2026/04/Steve-Dee-Album-Release-Party-Event-Cover-050826.jpeg
END:VEVENT
END:VCALENDAR