BEGIN:VCALENDAR
VERSION:2.0
PRODID:-// - ECPv6.15.20//NONSGML v1.0//EN
CALSCALE:GREGORIAN
METHOD:PUBLISH
X-ORIGINAL-URL:https://berlinbrewingco.com
X-WR-CALDESC:Events for 
REFRESH-INTERVAL;VALUE=DURATION:PT1H
X-Robots-Tag:noindex
X-PUBLISHED-TTL:PT1H
BEGIN:VTIMEZONE
TZID:UTC
BEGIN:STANDARD
TZOFFSETFROM:+0000
TZOFFSETTO:+0000
TZNAME:UTC
DTSTART:20250101T000000
END:STANDARD
END:VTIMEZONE
BEGIN:VEVENT
DTSTART;TZID=UTC:20260207T190000
DTEND;TZID=UTC:20260207T220000
DTSTAMP:20260421T125108
CREATED:20260202T113406Z
LAST-MODIFIED:20260207T225225Z
UID:7353-1770490800-1770501600@berlinbrewingco.com
SUMMARY:Meghan Cary - Live in the taproom!
DESCRIPTION:Hey\, Everyone!\nWe’ve got a little switch‑up for tomorrow night’s music in the taproom. Rees Shad is down with bronchitis and can’t make it (send him some healing vibes!)\, BUT the show goes on — and in the best way possible. \nWe’re thrilled to welcome Meghan Cary\, whose inspiring\, heartfelt\, and outrageously joyful folk‑Americana songs light up every room she steps into. Her music is all about connection\, hope\, and good energy — exactly what we love around here. \nCome grab a pint\, settle in\, and let Meghan lift your spirits tonight! Cheers! 🍻 \nMusic starts at 7. See you in the taproom!
URL:https://berlinbrewingco.com/events/rees-shad-live-in-the-taproom/
LOCATION:Berlin Brewing Company\, 220 S. White Horse Pike\, Berlin\, NJ\, 08009\, United States
CATEGORIES:Music,Social Gathering
ATTACH;FMTTYPE=image/jpeg:https://berlinbrewingco.com/wp-content/uploads/2026/02/FB_IMG_1770407180147.jpg
END:VEVENT
BEGIN:VEVENT
DTSTART;TZID=UTC:20260211T180000
DTEND;TZID=UTC:20260211T220000
DTSTAMP:20260421T125108
CREATED:20260202T113926Z
LAST-MODIFIED:20260202T113926Z
UID:7360-1770832800-1770847200@berlinbrewingco.com
SUMMARY:🎤 Open Mic Night - February 11th
DESCRIPTION:Join us in the taproom on Wednesday\, February 11th\, for Open Mic Night\, hosted by Pete & Erock. Whether you’re a solo act\, a duo\, or bringing the whole band\, we’ve got a full backline ready: PA system\, drumset\, bass amp\, guitar amp\, and two mics with stands.🎸🎤 \n🕡 Signups begin at 6:30 PM\n🎶 Performances start at 7 PM \nWe’ll be pouring the coldest beer and hard seltzers in town\, and our freshly brewed root beer is always a hit. Come for the music\, stay for the drinks—and the great atmosphere. \nLive music & cold beer are what we’re all about. See you soon!\nCheers! ✌ \n 
URL:https://berlinbrewingco.com/events/%f0%9f%8e%a4-open-mic-night-february-11th/
LOCATION:Berlin Brewing Company\, 220 S. White Horse Pike\, Berlin\, NJ\, 08009\, United States
CATEGORIES:Music,Social Gathering
ATTACH;FMTTYPE=image/jpeg:https://berlinbrewingco.com/wp-content/uploads/2025/10/557090825_1127430499511800_1651026085676864326_n.jpg
END:VEVENT
BEGIN:VEVENT
DTSTART;TZID=UTC:20260214T170000
DTEND;TZID=UTC:20260214T210000
DTSTAMP:20260421T125108
CREATED:20260211T223056Z
LAST-MODIFIED:20260304T151145Z
UID:7384-1771088400-1771102800@berlinbrewingco.com
SUMMARY:🎤Love Stinks Karaoke Party!❤️
DESCRIPTION:Love is in the air… and so is KARAOKE! 🎤💔 \nJoin us Saturday\, February 14th at 6 PM for our Love Stinks Karaoke Party — the perfect night to belt out your heartbreak anthems\, power ballads\, and guilty‑pleasure love songs. \nAnd guess what? Los Gordos will be on site\, whipping up some seriously tasty treats to fuel your vocal courage. Pair that with our great brews and you’ve got yourself a night of pure\, chaotic\, love‑themed joy. \nGreat brews. Great food. Great vibes. \nWhether you’re celebrating love\, avoiding it\, or singing about how much it stinks… we’ve got you covered. \nSee you Saturday! Cheers! 🍻
URL:https://berlinbrewingco.com/events/%f0%9f%8e%a4love-stinks-karaoke-party%e2%9d%a4%ef%b8%8f/
LOCATION:Berlin Brewing Company\, 220 S. White Horse Pike\, Berlin\, NJ\, 08009\, United States
CATEGORIES:Food Truck,Music
ATTACH;FMTTYPE=image/jpeg:https://berlinbrewingco.com/wp-content/uploads/2026/02/Love-Stinks-Karaoke.jpeg
END:VEVENT
BEGIN:VEVENT
DTSTART;TZID=UTC:20260215T140000
DTEND;TZID=UTC:20260215T180000
DTSTAMP:20260421T125108
CREATED:20260202T115414Z
LAST-MODIFIED:20260304T151309Z
UID:7364-1771164000-1771178400@berlinbrewingco.com
SUMMARY:🍲SOUPer BOWL 2 with Live music by Two On Tap!🎶
DESCRIPTION:🍲 Let’s blow off these winter blues and mark your calendars for our 2nd SOUPer Bowl in the taproom on February 15th at 2 PM! \nIf you think your soup is the best\, we want YOU to bring it! 🥄✨ Whether your recipe is hearty\, spicy\, or comforting\, show off your top‑secret recipe for a chance to be the SOUPer Bowl Champion! \n🎶 Plus: We’ll have live music by Two On Tap\, keeping the vibes high while you sip\, sample\, and vote! \n🌟 How it works: \n\nContestants: Bring your best homemade soup in a crockpot (enough to serve a crowd).\nJudging: People’s Choice Award — so bring your fans!\nPrizes & Glory: The winner gets bragging rights and a $50 gift card. 🏆\nBonus for Voters: Every time you purchase a pint\, you’ll get an extra voting ticket to boost your favorite soup!\n\n🍺Great beer\, great friends\, and great times! \nClick here to sign up as a contestant. Space is limited\, so don’t wait!\nLet’s make this a soup-er fun time! 🥳 See you in the taproom! 🍻 \n 
URL:https://berlinbrewingco.com/events/souper-bowl-2/
LOCATION:Berlin Brewing Company\, 220 S. White Horse Pike\, Berlin\, NJ\, 08009\, United States
CATEGORIES:Festival,Music,Social Gathering
ATTACH;FMTTYPE=image/png:https://berlinbrewingco.com/wp-content/uploads/2026/02/Souper-Bowl-2-v2.png
END:VEVENT
BEGIN:VEVENT
DTSTART;TZID=UTC:20260220T190000
DTEND;TZID=UTC:20260220T220000
DTSTAMP:20260421T125108
CREATED:20260213T152511Z
LAST-MODIFIED:20260213T152511Z
UID:7422-1771614000-1771624800@berlinbrewingco.com
SUMMARY:Fenian Rams Live! February 20th
DESCRIPTION:Join us on February 20th for a high‑energy night with The Fenian Rams\, bringing lively Irish music and hearty sea shanties straight to the taproom! Whether you’re here to sing along or just soak in the vibes\, it’s going to be an unforgettable evening.\n\nWe may also have a food truck joining the fun—stay tuned for updates!\n\nCome for the great brews\, stay for the great times and even better people.\nCheers!
URL:https://berlinbrewingco.com/events/fenian-rams-live-february-20th/
LOCATION:Berlin Brewing Company\, 220 S. White Horse Pike\, Berlin\, NJ\, 08009\, United States
CATEGORIES:Music,Social Gathering
ATTACH;FMTTYPE=image/jpeg:https://berlinbrewingco.com/wp-content/uploads/2026/02/Fenian-Rams-022026-Event-Header.jpeg
END:VEVENT
BEGIN:VEVENT
DTSTART;TZID=UTC:20260225T180000
DTEND;TZID=UTC:20260225T220000
DTSTAMP:20260421T125108
CREATED:20260202T114007Z
LAST-MODIFIED:20260202T114007Z
UID:7362-1772042400-1772056800@berlinbrewingco.com
SUMMARY:🎤 Open Mic Night - February 25th
DESCRIPTION:Join us in the taproom on Wednesday\, February 25th\, for Open Mic Night\, hosted by Pete & Erock. Whether you’re a solo act\, a duo\, or bringing the whole band\, we’ve got a full backline ready: PA system\, drumset\, bass amp\, guitar amp\, and two mics with stands.🎸🎤 \n🕡 Signups begin at 6:30 PM\n🎶 Performances start at 7 PM \nWe’ll be pouring the coldest beer and hard seltzers in town\, and our freshly brewed root beer is always a hit. Come for the music\, stay for the drinks—and the great atmosphere. \nLive music & cold beer are what we’re all about. See you soon!\nCheers! ✌ \n 
URL:https://berlinbrewingco.com/events/%f0%9f%8e%a4-open-mic-night-february-25th/
LOCATION:Berlin Brewing Company\, 220 S. White Horse Pike\, Berlin\, NJ\, 08009\, United States
CATEGORIES:Music,Social Gathering
ATTACH;FMTTYPE=image/jpeg:https://berlinbrewingco.com/wp-content/uploads/2025/10/557090825_1127430499511800_1651026085676864326_n.jpg
END:VEVENT
END:VCALENDAR