BEGIN:VCALENDAR
VERSION:2.0
PRODID:-// - ECPv6.15.20//NONSGML v1.0//EN
CALSCALE:GREGORIAN
METHOD:PUBLISH
X-ORIGINAL-URL:https://berlinbrewingco.com
X-WR-CALDESC:Events for 
REFRESH-INTERVAL;VALUE=DURATION:PT1H
X-Robots-Tag:noindex
X-PUBLISHED-TTL:PT1H
BEGIN:VTIMEZONE
TZID:UTC
BEGIN:STANDARD
TZOFFSETFROM:+0000
TZOFFSETTO:+0000
TZNAME:UTC
DTSTART:20250101T000000
END:STANDARD
END:VTIMEZONE
BEGIN:VEVENT
DTSTART;TZID=UTC:20260408T180000
DTEND;TZID=UTC:20260408T220000
DTSTAMP:20260422T215901
CREATED:20260404T113639Z
LAST-MODIFIED:20260404T133256Z
UID:7614-1775671200-1775685600@berlinbrewingco.com
SUMMARY:🎤 Open Mic Night - April 8
DESCRIPTION:Join us in the taproom on Wednesday\, April 8th\, for Open Mic Night\, hosted by Pete & Erock. Whether you’re a solo act\, a duo\, or bringing the whole band\, we’ve got a full backline ready: PA system\, drumset\, bass amp\, guitar amp\, and two mics with stands.🎸🎤 \n🕡 Signups begin at 6:30 PM\n🎶 Performances start at 7 PM\n Delicious food by Los Gordos from 7–9 PM — come hungry!! \nWe’ll be pouring the coldest beer and hard seltzers in town\, and our freshly brewed root beer is always a hit. Come for the music\, stay for the drinks—and the great atmosphere. \nLive music & cold beer are what we’re all about. See you soon!\nCheers! ✌ \n 
URL:https://berlinbrewingco.com/events/%f0%9f%8e%a4-open-mic-night-april-8/
LOCATION:Berlin Brewing Company\, 220 S. White Horse Pike\, Berlin\, NJ\, 08009\, United States
CATEGORIES:Food Truck,Music,Social Gathering
ATTACH;FMTTYPE=image/jpeg:https://berlinbrewingco.com/wp-content/uploads/2025/10/557090825_1127430499511800_1651026085676864326_n.jpg
END:VEVENT
BEGIN:VEVENT
DTSTART;TZID=UTC:20260419T120000
DTEND;TZID=UTC:20260419T180000
DTSTAMP:20260422T215901
CREATED:20260415T105741Z
LAST-MODIFIED:20260415T112525Z
UID:7640-1776600000-1776621600@berlinbrewingco.com
SUMMARY:🌸 Spring Market at the Taproom — April 19th\, Noon to 6 PM 🌸
DESCRIPTION:Join us for a laid‑back spring afternoon with great beer\, good people\, and a solid lineup of local artisan vendors bringing handmade goods\, art\, gifts\, and all the fresh‑season energy. Los Gordos will be here serving their always‑awesome tasty treats. \nWe’ll also have live music by The Williamsboy at 2:00 PM\, keeping the vibe easy and fun while you shop\, sip\, and hang out. \n✨ We’re still looking for a few more vendors\, so if you\, or someone you know\, makes something cool\, reach out. \nMark your calendar\, grab your crew\, and spend a spring day with us. Cheers! \n  \n 
URL:https://berlinbrewingco.com/events/%f0%9f%8c%b8-spring-market-at-the-taproom-april-19th-noon-to-6-pm-%f0%9f%8c%b8/
LOCATION:Berlin Brewing Company\, 220 S. White Horse Pike\, Berlin\, NJ\, 08009\, United States
CATEGORIES:Festival,Food Truck,Social Gathering
ATTACH;FMTTYPE=image/jpeg:https://berlinbrewingco.com/wp-content/uploads/2026/04/Sprint-Market-Vendor-Fest-1.jpeg
END:VEVENT
BEGIN:VEVENT
DTSTART;TZID=UTC:20260422T180000
DTEND;TZID=UTC:20260422T220000
DTSTAMP:20260422T215901
CREATED:20260418T124511Z
LAST-MODIFIED:20260418T124511Z
UID:7662-1776880800-1776895200@berlinbrewingco.com
SUMMARY:🎤 Open Mic Night - April 22
DESCRIPTION:Join us in the taproom on Wednesday\, April 22nd\, for Open Mic Night\, hosted by Pete & Erock. Whether you’re a solo act\, a duo\, or bringing the whole band\, we’ve got a full backline ready: PA system\, drumset\, bass amp\, guitar amp\, and two mics with stands.🎸🎤 \n🕡 Signups begin at 6:30 PM\n🎶 Performances start at 7 PM\n Delicious food by Los Gordos from 7–9 PM — come hungry!! \nWe’ll be pouring the coldest beer and hard seltzers in town\, and our freshly brewed root beer is always a hit. Come for the music\, stay for the drinks—and the great atmosphere. \nLive music & cold beer are what we’re all about. See you soon!\nCheers! ✌ \n 
URL:https://berlinbrewingco.com/events/%f0%9f%8e%a4-open-mic-night-april-22/
LOCATION:Berlin Brewing Company\, 220 S. White Horse Pike\, Berlin\, NJ\, 08009\, United States
CATEGORIES:Food Truck,Music,Social Gathering
ATTACH;FMTTYPE=image/jpeg:https://berlinbrewingco.com/wp-content/uploads/2025/10/557090825_1127430499511800_1651026085676864326_n.jpg
END:VEVENT
BEGIN:VEVENT
DTSTART;TZID=UTC:20260425T150000
DTEND;TZID=UTC:20260425T220000
DTSTAMP:20260422T215901
CREATED:20260421T102255Z
LAST-MODIFIED:20260421T102255Z
UID:7672-1777129200-1777154400@berlinbrewingco.com
SUMMARY:🔥 Team Marlton Presents: ALSF Rocking For A Cure Benefit at Berlin Brewing! 🔥
DESCRIPTION:Team Marlton is taking over the brewery for a night of big sound\, big heart\, and a whole lot of community power. Five bands. Amazing brews. Our fantastic\, fresh‑brewed root beer. All to support Alex’s Lemonade Stand Foundation and the fight against childhood cancer. \n🎸 THE LINEUP\n\nHELEHOY\n30ODD06\nGUTTER ROYAL\nSTARSKREAM\nLOURDES OF ASGARD\n\n🍔 Come Hungry! Fat Bear’s Smokin’ Grill will be on‑site\, serving up all their smoky\, delicious\, crowd‑favorite eats. Perfect pairing for a night of rock and good vibes. \n🎟 Tickets: $10 Grab yours from Greg @ 856‑417‑1299\, Jerry Stetler Jr\, or anyone from the bands. \nJoin Team Marlton at the brewery\, raise a pint\, rock out\, and help push toward a cure. Let’s pack the place and make this night count. 💛🍻
URL:https://berlinbrewingco.com/events/%f0%9f%94%a5-team-marlton-presents-alsf-rocking-for-a-cure-benefit-at-berlin-brewing-%f0%9f%94%a5/
LOCATION:Berlin Brewing Company\, 220 S. White Horse Pike\, Berlin\, NJ\, 08009\, United States
CATEGORIES:Charitable,Festival,Food Truck,Music,Social Gathering
ATTACH;FMTTYPE=image/jpeg:https://berlinbrewingco.com/wp-content/uploads/2026/04/Team-Marlton-ALSF-042526.jpeg
END:VEVENT
BEGIN:VEVENT
DTSTART;TZID=UTC:20260426T140000
DTEND;TZID=UTC:20260426T200000
DTSTAMP:20260422T215901
CREATED:20260421T113905Z
LAST-MODIFIED:20260421T184302Z
UID:7670-1777212000-1777233600@berlinbrewingco.com
SUMMARY:🔥The Nugget Chicks Kickoff + Two of Us Live in the Taproom🔥
DESCRIPTION:Join us this Sunday\, April 26\, for an epic Grand Opening celebration as The Nugget Chicks make their debut starting at 2 PM! It’s going to be a full afternoon and evening of live music\, food\, raffles\, and community fun! \nThe Nugget Chicks will be serving up their full lineup of crispy goodness\, including chicken wings\, tender bites\, french fries\, and long hots\, all perfect alongside our great beers and fresh-brewed Root Beer. \nAlso making their taproom debut\, we’ve got Two of Us\, the father‑and‑son duo known for killer harmonies and a setlist stacked with favorites. And if the rumors are true\, they might even morph into “Three of a Kind” for a few surprise songs\, family harmony at its finest. \nThroughout the celebration\, all prizes will be hosted through The Nugget Chicks\, including door prizes\, 50/50s\, and some extra surprises to keep things exciting. The day will also shine a spotlight on incredible women-owned businesses like Blondies Beauty Bar\, Graceful Connections222 & Superbloom Bakeshoppe\, making this a day dedicated to celebrating and supporting local women doing amazing things. \nThis is going to be one of those Sundays that just feels good — amazing music\, delicious food\, family fun\, and a whole lot of community spirit\, all kicking off at 2 PM. Don’t miss it. Cheers!
URL:https://berlinbrewingco.com/events/%f0%9f%94%a5the-nugget-chicks-kickoff-two-of-us-live-in-the-taproom%f0%9f%94%a5/
LOCATION:Berlin Brewing Company\, 220 S. White Horse Pike\, Berlin\, NJ\, 08009\, United States
CATEGORIES:Beer Garden,Festival,Food Truck,Music,Social Gathering
ATTACH;FMTTYPE=image/jpeg:https://berlinbrewingco.com/wp-content/uploads/2026/04/Untitled_20260421_143725.jpg
END:VEVENT
BEGIN:VEVENT
DTSTART;TZID=UTC:20260502T183000
DTEND;TZID=UTC:20260502T230000
DTSTAMP:20260422T215901
CREATED:20260421T213839Z
LAST-MODIFIED:20260421T225733Z
UID:7707-1777746600-1777762800@berlinbrewingco.com
SUMMARY:🎶🔥BIG ZEN ENTERTAINMENT RETURNS WITH A NIGHT OF ORIGINAL MUSIC!
DESCRIPTION:We’re thrilled to welcome BIG ZEN Entertainment and this incredible lineup of musicians back for another unforgettable night of original music\, great beer\, and good company. \nCome out for quality craft brews\, a stellar mix of local talent\, and that feel‑good community vibe we all love. Our friends at Los Gordos will be on-site serving up their tasty goodies. The perfect pairing for a night like this. \n$10 Cover 💵 \nFree Parking 🅿️ \nDoors open at 6:30 PM ⏰ \nFeaturing Live Performances By:\n\nPete Scavello\nMother Dynamite\nSeems Like Tuesday\nThe Goodbyes\n\nIt’s going to be a night full of energy\, creativity\, and great music from start to finish. Cheers! 🍻
URL:https://berlinbrewingco.com/events/%f0%9f%8e%b6%f0%9f%94%a5big-zen-entertainment-returns-with-a-night-of-original-music/
LOCATION:Berlin Brewing Company\, 220 S. White Horse Pike\, Berlin\, NJ\, 08009\, United States
CATEGORIES:Festival,Food Truck,Music,Social Gathering
ATTACH;FMTTYPE=image/jpeg:https://berlinbrewingco.com/wp-content/uploads/2026/04/Seems-Like-Tuesday-May-2-2026.jpeg
END:VEVENT
BEGIN:VEVENT
DTSTART;TZID=UTC:20260508T190000
DTEND;TZID=UTC:20260508T220000
DTSTAMP:20260422T215901
CREATED:20260421T212041Z
LAST-MODIFIED:20260421T212148Z
UID:7703-1778266800-1778277600@berlinbrewingco.com
SUMMARY:🔥Steve Dee Band Album Release Party — “Shack Tracks” Hits Vinyl!
DESCRIPTION:We’re turning the taproom into a full‑blown celebration as the Steve Dee Band drops their brand‑new vinyl\, Shack Tracks! Come raise a glass with us\, listen to some fresh tunes\, and party with us as we welcome this killer release into the world. \nThe night kicks off at 8 PM with opening sets from Rusty Pigeon\, Michael Naphys\, and Oscar Capps — the perfect warm‑up before Steve Dee Band takes over and brings the house down. \nYou already know the beer lineup is going to be on point: fresh craft brews\, seasonal favorites\, and our fan‑favorite Root Beer pouring all night long. \nAnd because great music deserves great food\, JAMS Eats will be onsite serving up their delicious menu\, including a veggie option so everyone’s covered. \nThis is going to be one of those nights that just feels good — live music\, cold beer\, good food\, and a room full of people ready to celebrate. Don’t miss it.
URL:https://berlinbrewingco.com/events/%f0%9f%94%a5steve-dee-band-album-release-party-shack-tracks-hits-vinyl/
LOCATION:Berlin Brewing Company\, 220 S. White Horse Pike\, Berlin\, NJ\, 08009\, United States
CATEGORIES:Festival,Food Truck,Music,Social Gathering
ATTACH;FMTTYPE=image/jpeg:https://berlinbrewingco.com/wp-content/uploads/2026/04/Steve-Dee-Album-Release-Party-Event-Cover-050826.jpeg
END:VEVENT
END:VCALENDAR