BEGIN:VCALENDAR
VERSION:2.0
PRODID:-// - ECPv6.15.20//NONSGML v1.0//EN
CALSCALE:GREGORIAN
METHOD:PUBLISH
X-ORIGINAL-URL:https://berlinbrewingco.com
X-WR-CALDESC:Events for 
REFRESH-INTERVAL;VALUE=DURATION:PT1H
X-Robots-Tag:noindex
X-PUBLISHED-TTL:PT1H
BEGIN:VTIMEZONE
TZID:UTC
BEGIN:STANDARD
TZOFFSETFROM:+0000
TZOFFSETTO:+0000
TZNAME:UTC
DTSTART:20230101T000000
END:STANDARD
END:VTIMEZONE
BEGIN:VEVENT
DTSTART;TZID=UTC:20240607T180000
DTEND;TZID=UTC:20240607T210000
DTSTAMP:20260421T054117
CREATED:20240603T144659Z
LAST-MODIFIED:20240606T134423Z
UID:6139-1717783200-1717794000@berlinbrewingco.com
SUMMARY:The Quixote Project with Humpty's Dumplings
DESCRIPTION:Join us at the taproom this Friday for an awesome night of live music with The Quixote Project and Rees Shad & The Conversation! \nWe also have mouthwatering dumplings by Humpty’s Dumplings\, so come hungry. It’s the perfect combo with our cold beer!
URL:https://berlinbrewingco.com/events/the-quixote-project-with-los-gordos/
LOCATION:Berlin Brewing Company\, 220 S. White Horse Pike\, Berlin\, NJ\, 08009\, United States
CATEGORIES:Food Truck,Music
ATTACH;FMTTYPE=image/png:https://berlinbrewingco.com/wp-content/uploads/2024/06/The-Quixote-Project-1.png
END:VEVENT
END:VCALENDAR