BEGIN:VCALENDAR
VERSION:2.0
PRODID:-// - ECPv6.15.20//NONSGML v1.0//EN
CALSCALE:GREGORIAN
METHOD:PUBLISH
X-ORIGINAL-URL:https://berlinbrewingco.com
X-WR-CALDESC:Events for 
REFRESH-INTERVAL;VALUE=DURATION:PT1H
X-Robots-Tag:noindex
X-PUBLISHED-TTL:PT1H
BEGIN:VTIMEZONE
TZID:UTC
BEGIN:STANDARD
TZOFFSETFROM:+0000
TZOFFSETTO:+0000
TZNAME:UTC
DTSTART:20230101T000000
END:STANDARD
END:VTIMEZONE
BEGIN:VEVENT
DTSTART;TZID=UTC:20240328T150000
DTEND;TZID=UTC:20240328T210000
DTSTAMP:20260426T033604
CREATED:20240326T222451Z
LAST-MODIFIED:20240326T222508Z
UID:6030-1711638000-1711659600@berlinbrewingco.com
SUMMARY:Opening Day 2024!
DESCRIPTION:Join us in the taproom at 3 pm for the Phillies home opener. We’ll have $5 Sidepiece Philsners on tap and free hotdogs while supplies last.\n\nSee you there. Cheers!
URL:https://berlinbrewingco.com/events/opening-day/
LOCATION:Berlin Brewing Company\, 220 S. White Horse Pike\, Berlin\, NJ\, 08009\, United States
CATEGORIES:Food Truck,Social Gathering
ATTACH;FMTTYPE=image/jpeg:https://berlinbrewingco.com/wp-content/uploads/2024/03/Opening-Day-0328.jpg
END:VEVENT
END:VCALENDAR