BEGIN:VCALENDAR
VERSION:2.0
PRODID:-// - ECPv6.15.20//NONSGML v1.0//EN
CALSCALE:GREGORIAN
METHOD:PUBLISH
X-ORIGINAL-URL:https://berlinbrewingco.com
X-WR-CALDESC:Events for 
REFRESH-INTERVAL;VALUE=DURATION:PT1H
X-Robots-Tag:noindex
X-PUBLISHED-TTL:PT1H
BEGIN:VTIMEZONE
TZID:UTC
BEGIN:STANDARD
TZOFFSETFROM:+0000
TZOFFSETTO:+0000
TZNAME:UTC
DTSTART:20230101T000000
END:STANDARD
END:VTIMEZONE
BEGIN:VEVENT
DTSTART;TZID=UTC:20240504T150000
DTEND;TZID=UTC:20240504T200000
DTSTAMP:20260420T150345
CREATED:20240504T120703Z
LAST-MODIFIED:20240504T120703Z
UID:6103-1714834800-1714852800@berlinbrewingco.com
SUMMARY:Star Wars Day & Kentucky Derby Party
DESCRIPTION:Hey there! May The 4th Be With You!\n\nJoin us this Saturday to celebrate Star Wars Day and The Kentucky Derby! We kick things off at noon with Buddha Belly Waffles serving their delicious sweet and savory waffles at 3 PM. At 4 PM\, we kick it up with live music by Double G Duo. Finally\, at 6:57 PM\, we’ll switch gears to The Kentucky Derby.\n\nWe can’t wait to see you there! Cheers!
URL:https://berlinbrewingco.com/events/star-wars-day-kentucky-derby-party/
LOCATION:Berlin Brewing Company\, 220 S. White Horse Pike\, Berlin\, NJ\, 08009\, United States
CATEGORIES:Food Truck,Music
ATTACH;FMTTYPE=image/jpeg:https://berlinbrewingco.com/wp-content/uploads/2024/05/May-The-4th-2024.jpg
END:VEVENT
BEGIN:VEVENT
DTSTART;TZID=UTC:20240505T120000
DTEND;TZID=UTC:20240505T170000
DTSTAMP:20260420T150345
CREATED:20240504T122415Z
LAST-MODIFIED:20240504T122500Z
UID:6106-1714910400-1714928400@berlinbrewingco.com
SUMMARY:Cinco de Mayo Festival
DESCRIPTION:Hey there! We’re excited for you to join us at our very first Cinco de Mayo Festival on Sunday\, May 5th!\n\nWe’ve teamed up with Los Gordos Rosticeria to bring you an unforgettable experience that includes live music by the talented T-Bone Tony Manning\, a variety of vendors\, delicious food prepared by Alma and her amazing team at Los Gordos\, and of course\, ice-cold beer that we’ll be serving up! We’ll also have some special beer drinks that we’re sure you’ll love.\n\nWe can’t wait to share this fantastic day with you\, so come on out and celebrate with us!\n\nThis event is RAIN OR SHINE! \n\nCheers!\n\n**VENDORS**Mystical Mechanic East Coast Fairy HairMagic Man Hot SauceHer Game JewelryIllegal Custom CreationsSplash of ColorFrios PopsiclesLa Plazita (Mexican Decor)Chava CandlesJuan’s Lemonade/MangonadasCindy’s Hot Wheels Race Track
URL:https://berlinbrewingco.com/events/cinco-de-mayo-festival/
LOCATION:Berlin Brewing Company\, 220 S. White Horse Pike\, Berlin\, NJ\, 08009\, United States
CATEGORIES:Festival,Food Truck,Music,Social Gathering
ATTACH;FMTTYPE=image/jpeg:https://berlinbrewingco.com/wp-content/uploads/2024/05/Cinco-de-Mayo-Festival.jpg
END:VEVENT
BEGIN:VEVENT
DTSTART;TZID=UTC:20240524T170000
DTEND;TZID=UTC:20240524T210000
DTSTAMP:20260420T150345
CREATED:20240521T134827Z
LAST-MODIFIED:20240521T134827Z
UID:6125-1716570000-1716584400@berlinbrewingco.com
SUMMARY:An Evening of Live Music with Michael Naphys
DESCRIPTION:Join us this Friday night in the taproom for a great night of live music by Michael Naphys and delicious food by Not Your Average Wiener!
URL:https://berlinbrewingco.com/events/an-evening-of-live-music-with-michael-naphys/
LOCATION:Berlin Brewing Company\, 220 S. White Horse Pike\, Berlin\, NJ\, 08009\, United States
CATEGORIES:Food Truck,Music
ATTACH;FMTTYPE=image/jpeg:https://berlinbrewingco.com/wp-content/uploads/2024/05/Michael-Naphys-0524.jpg
END:VEVENT
END:VCALENDAR