BEGIN:VCALENDAR
VERSION:2.0
PRODID:-// - ECPv6.15.20//NONSGML v1.0//EN
CALSCALE:GREGORIAN
METHOD:PUBLISH
X-ORIGINAL-URL:https://berlinbrewingco.com
X-WR-CALDESC:Events for 
REFRESH-INTERVAL;VALUE=DURATION:PT1H
X-Robots-Tag:noindex
X-PUBLISHED-TTL:PT1H
BEGIN:VTIMEZONE
TZID:UTC
BEGIN:STANDARD
TZOFFSETFROM:+0000
TZOFFSETTO:+0000
TZNAME:UTC
DTSTART:20250101T000000
END:STANDARD
END:VTIMEZONE
BEGIN:VEVENT
DTSTART;TZID=UTC:20260425T150000
DTEND;TZID=UTC:20260425T220000
DTSTAMP:20260425T181557
CREATED:20260421T102255Z
LAST-MODIFIED:20260421T102255Z
UID:7672-1777129200-1777154400@berlinbrewingco.com
SUMMARY:🔥 Team Marlton Presents: ALSF Rocking For A Cure Benefit at Berlin Brewing! 🔥
DESCRIPTION:Team Marlton is taking over the brewery for a night of big sound\, big heart\, and a whole lot of community power. Five bands. Amazing brews. Our fantastic\, fresh‑brewed root beer. All to support Alex’s Lemonade Stand Foundation and the fight against childhood cancer. \n🎸 THE LINEUP\n\nHELEHOY\n30ODD06\nGUTTER ROYAL\nSTARSKREAM\nLOURDES OF ASGARD\n\n🍔 Come Hungry! Fat Bear’s Smokin’ Grill will be on‑site\, serving up all their smoky\, delicious\, crowd‑favorite eats. Perfect pairing for a night of rock and good vibes. \n🎟 Tickets: $10 Grab yours from Greg @ 856‑417‑1299\, Jerry Stetler Jr\, or anyone from the bands. \nJoin Team Marlton at the brewery\, raise a pint\, rock out\, and help push toward a cure. Let’s pack the place and make this night count. 💛🍻
URL:https://berlinbrewingco.com/events/%f0%9f%94%a5-team-marlton-presents-alsf-rocking-for-a-cure-benefit-at-berlin-brewing-%f0%9f%94%a5/
LOCATION:Berlin Brewing Company\, 220 S. White Horse Pike\, Berlin\, NJ\, 08009\, United States
CATEGORIES:Charitable,Festival,Food Truck,Music,Social Gathering
ATTACH;FMTTYPE=image/jpeg:https://berlinbrewingco.com/wp-content/uploads/2026/04/Team-Marlton-ALSF-042526.jpeg
END:VEVENT
END:VCALENDAR