BEGIN:VCALENDAR
VERSION:2.0
PRODID:-// - ECPv6.15.20//NONSGML v1.0//EN
CALSCALE:GREGORIAN
METHOD:PUBLISH
X-ORIGINAL-URL:https://berlinbrewingco.com
X-WR-CALDESC:Events for 
REFRESH-INTERVAL;VALUE=DURATION:PT1H
X-Robots-Tag:noindex
X-PUBLISHED-TTL:PT1H
BEGIN:VTIMEZONE
TZID:UTC
BEGIN:STANDARD
TZOFFSETFROM:+0000
TZOFFSETTO:+0000
TZNAME:UTC
DTSTART:20240101T000000
END:STANDARD
END:VTIMEZONE
BEGIN:VEVENT
DTSTART;TZID=UTC:20250529T180000
DTEND;TZID=UTC:20250529T200000
DTSTAMP:20260422T213611
CREATED:20250528T122807Z
LAST-MODIFIED:20250528T123245Z
UID:6805-1748541600-1748548800@berlinbrewingco.com
SUMMARY:Closed for a Private Event
DESCRIPTION:We are closed for a private event this Thursday. Please join us again on Friday\, May 30th\, at 5:00 PM. \nCheers!
URL:https://berlinbrewingco.com/events/closed-for-a-private-event-2/
LOCATION:Berlin Brewing Company\, 220 S. White Horse Pike\, Berlin\, NJ\, 08009\, United States
CATEGORIES:Private Event
ATTACH;FMTTYPE=image/jpeg:https://berlinbrewingco.com/wp-content/uploads/2025/05/Private-Event-1.jpeg
END:VEVENT
END:VCALENDAR