BEGIN:VCALENDAR
VERSION:2.0
PRODID:-// - ECPv6.15.20//NONSGML v1.0//EN
CALSCALE:GREGORIAN
METHOD:PUBLISH
X-ORIGINAL-URL:https://berlinbrewingco.com
X-WR-CALDESC:Events for 
REFRESH-INTERVAL;VALUE=DURATION:PT1H
X-Robots-Tag:noindex
X-PUBLISHED-TTL:PT1H
BEGIN:VTIMEZONE
TZID:UTC
BEGIN:STANDARD
TZOFFSETFROM:+0000
TZOFFSETTO:+0000
TZNAME:UTC
DTSTART:20240101T000000
END:STANDARD
END:VTIMEZONE
BEGIN:VEVENT
DTSTART;TZID=UTC:20250509T190000
DTEND;TZID=UTC:20250509T210000
DTSTAMP:20260424T121640
CREATED:20250508T001054Z
LAST-MODIFIED:20250508T130238Z
UID:6754-1746817200-1746824400@berlinbrewingco.com
SUMMARY:The Jims - May 9th - 7 to 9 PM
DESCRIPTION:Join us for an amazing night of live music featuring The Jims as they perform a live rendition of your favorite mixtape in the taproom. It’s their debut appearance\, so let’s show them some love.\n\nAs always\, bring your favorite snacks and food\, or order from one of the delicious restaurants in town.\n\nCheers!!
URL:https://berlinbrewingco.com/events/the-jims/
LOCATION:Berlin Brewing Company\, 220 S. White Horse Pike\, Berlin\, NJ\, 08009\, United States
CATEGORIES:Music,Social Gathering
ATTACH;FMTTYPE=image/jpeg:https://berlinbrewingco.com/wp-content/uploads/2025/05/The-Jims-050925-1.jpeg
END:VEVENT
END:VCALENDAR