BEGIN:VCALENDAR
VERSION:2.0
PRODID:-// - ECPv6.15.20//NONSGML v1.0//EN
CALSCALE:GREGORIAN
METHOD:PUBLISH
X-ORIGINAL-URL:https://berlinbrewingco.com
X-WR-CALDESC:Events for 
REFRESH-INTERVAL;VALUE=DURATION:PT1H
X-Robots-Tag:noindex
X-PUBLISHED-TTL:PT1H
BEGIN:VTIMEZONE
TZID:UTC
BEGIN:STANDARD
TZOFFSETFROM:+0000
TZOFFSETTO:+0000
TZNAME:UTC
DTSTART:20240101T000000
END:STANDARD
END:VTIMEZONE
BEGIN:VEVENT
DTSTART;TZID=UTC:20250404T190000
DTEND;TZID=UTC:20250404T210000
DTSTAMP:20260425T144823
CREATED:20250403T123350Z
LAST-MODIFIED:20250403T123350Z
UID:6701-1743793200-1743800400@berlinbrewingco.com
SUMMARY:A Night of Live Music with Ray Gervato
DESCRIPTION:Hey there\, friends! Join us for an unforgettable night of live music featuring the talented Ray Gervato!  Get ready to enjoy a mix of acoustic covers and his original hits that will have you singing along. \n\nDon’t forget to bring your snacks or order from one of the fantastic local restaurants.\n\nThis is the perfect opportunity to vibe with delicious brews\, great music\, and amazing company! Mark your calendar\, and come ready to rock! \n\nTake a listen here: https://youtube.com/@raygervato?si=e3Tbabr9FYFSoBOS
URL:https://berlinbrewingco.com/events/a-night-of-live-music-with-ray-gervato/
LOCATION:Berlin Brewing Company\, 220 S. White Horse Pike\, Berlin\, NJ\, 08009\, United States
CATEGORIES:Music
ATTACH;FMTTYPE=image/jpeg:https://berlinbrewingco.com/wp-content/uploads/2025/04/Untitled-5.jpeg
END:VEVENT
END:VCALENDAR