BEGIN:VCALENDAR
VERSION:2.0
PRODID:-// - ECPv6.15.20//NONSGML v1.0//EN
CALSCALE:GREGORIAN
METHOD:PUBLISH
X-ORIGINAL-URL:https://berlinbrewingco.com
X-WR-CALDESC:Events for 
REFRESH-INTERVAL;VALUE=DURATION:PT1H
X-Robots-Tag:noindex
X-PUBLISHED-TTL:PT1H
BEGIN:VTIMEZONE
TZID:UTC
BEGIN:STANDARD
TZOFFSETFROM:+0000
TZOFFSETTO:+0000
TZNAME:UTC
DTSTART:20240101T000000
END:STANDARD
END:VTIMEZONE
BEGIN:VEVENT
DTSTART;TZID=UTC:20250326T140000
DTEND;TZID=UTC:20250326T210000
DTSTAMP:20260425T132651
CREATED:20260324T205009Z
LAST-MODIFIED:20260324T205009Z
UID:7486-1742997600-1743022800@berlinbrewingco.com
SUMMARY:🌟Phillies Home Opener Party⚾️
DESCRIPTION:🌟 Join Us for the Phillies Home Opener Party THIS Thursday at 2 PM! ⚾️🎉 \nBaseball is BACK\, and we’re throwing a taproom party worthy of Opening Day! Grab your crew and roll in for an afternoon packed with great beer\, great vibes\, FREE hotdogs\, and all the Philly energy you can handle. \n🌭 FREE hotdogs (while they last!)!\n🍺 $5 Philsners to keep the celebration going!\n🎁 Fun giveaways and surprises throughout the game! \nWhether you’re here for the baseball\, the beer\, or just the hang\, this is the place to kick off the season in style. Let’s fill the taproom\, get loud\, and cheer our boys on to a big W.\nGo Phils! Let’s do this! 🍻❤️⚾️ \n#PhilliesHomeOpener #OpeningDayParty #TaproomFun #GoPhils
URL:https://berlinbrewingco.com/events/%f0%9f%8c%9fphillies-home-opener-party%e2%9a%be%ef%b8%8f/
LOCATION:Berlin Brewing Company\, 220 S. White Horse Pike\, Berlin\, NJ\, 08009\, United States
CATEGORIES:Social Gathering
ATTACH;FMTTYPE=image/jpeg:https://berlinbrewingco.com/wp-content/uploads/2026/03/Opening-Day-26.jpg
END:VEVENT
END:VCALENDAR