BEGIN:VCALENDAR
VERSION:2.0
PRODID:-// - ECPv6.15.20//NONSGML v1.0//EN
CALSCALE:GREGORIAN
METHOD:PUBLISH
X-ORIGINAL-URL:https://berlinbrewingco.com
X-WR-CALDESC:Events for 
REFRESH-INTERVAL;VALUE=DURATION:PT1H
X-Robots-Tag:noindex
X-PUBLISHED-TTL:PT1H
BEGIN:VTIMEZONE
TZID:UTC
BEGIN:STANDARD
TZOFFSETFROM:+0000
TZOFFSETTO:+0000
TZNAME:UTC
DTSTART:20240101T000000
END:STANDARD
END:VTIMEZONE
BEGIN:VEVENT
DTSTART;TZID=UTC:20250124T180000
DTEND;TZID=UTC:20250124T210000
DTSTAMP:20260425T124120
CREATED:20250122T021002Z
LAST-MODIFIED:20250122T021003Z
UID:6612-1737741600-1737752400@berlinbrewingco.com
SUMMARY:Vinyl Friday
DESCRIPTION:Join Us for Vinyl Friday!\n\n **Join us this Friday for Vinyl Friday!  We are having a special celebration for the birthdays of the legendary Warren Zevon and Momma Midge! So bring your Warren\, some awesome Funk or R&B\, and whatever else you want to BYOV (Bring Your Own Vinyl). \n\nWe will also have a scrumptious free buffet while Sweet Lou serves our delicious beers\, seltzers\, and soda. \n\nDon’t miss out on this fantastic evening filled with great music\, good company\, and delightful treats. See you there!
URL:https://berlinbrewingco.com/events/vinyl-friday-3/
LOCATION:Berlin Brewing Company\, 220 S. White Horse Pike\, Berlin\, NJ\, 08009\, United States
CATEGORIES:Music,Social Gathering
ATTACH;FMTTYPE=image/jpeg:https://berlinbrewingco.com/wp-content/uploads/2025/01/VinylFriday-012425.jpeg
END:VEVENT
END:VCALENDAR