BEGIN:VCALENDAR
VERSION:2.0
PRODID:-// - ECPv6.15.20//NONSGML v1.0//EN
CALSCALE:GREGORIAN
METHOD:PUBLISH
X-ORIGINAL-URL:https://berlinbrewingco.com
X-WR-CALDESC:Events for 
REFRESH-INTERVAL;VALUE=DURATION:PT1H
X-Robots-Tag:noindex
X-PUBLISHED-TTL:PT1H
BEGIN:VTIMEZONE
TZID:UTC
BEGIN:STANDARD
TZOFFSETFROM:+0000
TZOFFSETTO:+0000
TZNAME:UTC
DTSTART:20240101T000000
END:STANDARD
END:VTIMEZONE
BEGIN:VEVENT
DTSTART;TZID=UTC:20250110T180000
DTEND;TZID=UTC:20250110T210000
DTSTAMP:20260425T124151
CREATED:20250104T194514Z
LAST-MODIFIED:20250104T194514Z
UID:6584-1736532000-1736542800@berlinbrewingco.com
SUMMARY:The Quixote Project
DESCRIPTION:🎶 Exciting news\, everyone! 🎉 Join us this Friday\, January 10th\, from 6 to 9 PM for an amazing night as The Quixote Project takes the stage live in the taproom! 🍻 Come enjoy delicious beers\, fantastic food\, and great vibes. Don’t miss out on the fun – it’s going to be an unforgettable evening! Cheers! 🥳✨
URL:https://berlinbrewingco.com/events/the-quixote-project/
LOCATION:Berlin Brewing Company\, 220 S. White Horse Pike\, Berlin\, NJ\, 08009\, United States
CATEGORIES:Music,Social Gathering
ATTACH;FMTTYPE=image/jpeg:https://berlinbrewingco.com/wp-content/uploads/2025/01/The-Quixote-Project-FB-Event.jpg
END:VEVENT
END:VCALENDAR