BEGIN:VCALENDAR
VERSION:2.0
PRODID:-// - ECPv6.15.20//NONSGML v1.0//EN
CALSCALE:GREGORIAN
METHOD:PUBLISH
X-ORIGINAL-URL:https://berlinbrewingco.com
X-WR-CALDESC:Events for 
REFRESH-INTERVAL;VALUE=DURATION:PT1H
X-Robots-Tag:noindex
X-PUBLISHED-TTL:PT1H
BEGIN:VTIMEZONE
TZID:UTC
BEGIN:STANDARD
TZOFFSETFROM:+0000
TZOFFSETTO:+0000
TZNAME:UTC
DTSTART:20240101T000000
END:STANDARD
END:VTIMEZONE
BEGIN:VEVENT
DTSTART;TZID=UTC:20250107T190000
DTEND;TZID=UTC:20250107T220000
DTSTAMP:20260426T014025
CREATED:20250106T143944Z
LAST-MODIFIED:20250106T143944Z
UID:6587-1736276400-1736287200@berlinbrewingco.com
SUMMARY:Open Mic Night
DESCRIPTION:We are excited for you to join us on January 7\, from 7 to 10 PM for our first Open Mic Night of 2025!🎶 Whether you’re a performer or a supporter\, this is a great opportunity to showcase your talent or enjoy amazing live music. Plus\, we have a full backline ready for you.
URL:https://berlinbrewingco.com/events/open-mic-night-4/
LOCATION:Berlin Brewing Company\, 220 S. White Horse Pike\, Berlin\, NJ\, 08009\, United States
CATEGORIES:Music,Social Gathering
ATTACH;FMTTYPE=image/jpeg:https://berlinbrewingco.com/wp-content/uploads/2025/01/472632371_1158907499573855_3079416641405746214_n.jpg
END:VEVENT
END:VCALENDAR