BEGIN:VCALENDAR
VERSION:2.0
PRODID:-// - ECPv6.15.20//NONSGML v1.0//EN
CALSCALE:GREGORIAN
METHOD:PUBLISH
X-ORIGINAL-URL:https://berlinbrewingco.com
X-WR-CALDESC:Events for 
REFRESH-INTERVAL;VALUE=DURATION:PT1H
X-Robots-Tag:noindex
X-PUBLISHED-TTL:PT1H
BEGIN:VTIMEZONE
TZID:UTC
BEGIN:STANDARD
TZOFFSETFROM:+0000
TZOFFSETTO:+0000
TZNAME:UTC
DTSTART:20240101T000000
END:STANDARD
END:VTIMEZONE
BEGIN:VEVENT
DTSTART;TZID=UTC:20250103T070000
DTEND;TZID=UTC:20250103T220000
DTSTAMP:20260425T124032
CREATED:20250101T032338Z
LAST-MODIFIED:20250101T040459Z
UID:6574-1735887600-1735941600@berlinbrewingco.com
SUMMARY:Wiz Witz Band
DESCRIPTION:Hey friends! 🎉Join us in the taproom for a fun evening filled with delicious beer\, good company\, and the awesome tunes of the Wiz Witz band! It’s the perfect chance to kick back\, relax\, and enjoy great times with friends and family. Let’s make it a night to remember! Cheers! 🍻❤️
URL:https://berlinbrewingco.com/events/wiz-witz-band/
LOCATION:Berlin Brewing Company\, 220 S. White Horse Pike\, Berlin\, NJ\, 08009\, United States
CATEGORIES:Music
ATTACH;FMTTYPE=image/jpeg:https://berlinbrewingco.com/wp-content/uploads/2025/01/Wiz-Witz-Jan-3-Insta.jpg
END:VEVENT
END:VCALENDAR