BEGIN:VCALENDAR
VERSION:2.0
PRODID:-// - ECPv6.15.20//NONSGML v1.0//EN
CALSCALE:GREGORIAN
METHOD:PUBLISH
X-ORIGINAL-URL:https://berlinbrewingco.com
X-WR-CALDESC:Events for 
REFRESH-INTERVAL;VALUE=DURATION:PT1H
X-Robots-Tag:noindex
X-PUBLISHED-TTL:PT1H
BEGIN:VTIMEZONE
TZID:UTC
BEGIN:STANDARD
TZOFFSETFROM:+0000
TZOFFSETTO:+0000
TZNAME:UTC
DTSTART:20230101T000000
END:STANDARD
END:VTIMEZONE
BEGIN:VEVENT
DTSTART;TZID=UTC:20241105T180000
DTEND;TZID=UTC:20241105T210000
DTSTAMP:20260422T205525
CREATED:20241031T100142Z
LAST-MODIFIED:20241031T100142Z
UID:6451-1730829600-1730840400@berlinbrewingco.com
SUMMARY:Open Mic Night!
DESCRIPTION:Join us for an evening of live music at our Open Mic Night\, hosted by Shae\, starting at 6 PM on Election Day! We have a full line up of delicious beers\, two amazing seltzers\, and now we have fresh brewed Root Beer!! Don’t forget to bring your snacks or order food from one of the delicious restaurants in our town.\n\nJus a few reminders and notices:\n\nThere is a full back line.\nShea is brining in a good friend to run sound for all musicians.\nAll musicians are to park in the lot next door and enter from side entrance.\nPlease do not bring in your equipment until your set is up.\nPlease be respectful of people when preforming and setting up on stage.\nSmoking is permitted in designated area only. Please use receptible to discard butts.\nPlease respect the yoga studio in our strip. DO NOT stand near\, smoke or disturb the yoga studio in any way.\nTo avoid any confusion in parking\, we will designate areas for our business and the yoga studio. Overflow parking is in the lot to the side of the building\, at the McDonalds or across the street. DO NOT block the Fire Department in any way and please use the crosswalk at the light to cross the Pike. It’s crazy out there and we want you safe.\nFinally\, and most of all\, let’s have a great time!!
URL:https://berlinbrewingco.com/events/open-mic-night-2/
LOCATION:Berlin Brewing Company\, 220 S. White Horse Pike\, Berlin\, NJ\, 08009\, United States
CATEGORIES:Music
ATTACH;FMTTYPE=image/jpeg:https://berlinbrewingco.com/wp-content/uploads/2024/10/465029914_122119626050510048_3175836790668936047_n.jpg
END:VEVENT
END:VCALENDAR