BEGIN:VCALENDAR
VERSION:2.0
PRODID:-// - ECPv6.15.20//NONSGML v1.0//EN
CALSCALE:GREGORIAN
METHOD:PUBLISH
X-ORIGINAL-URL:https://berlinbrewingco.com
X-WR-CALDESC:Events for 
REFRESH-INTERVAL;VALUE=DURATION:PT1H
X-Robots-Tag:noindex
X-PUBLISHED-TTL:PT1H
BEGIN:VTIMEZONE
TZID:UTC
BEGIN:STANDARD
TZOFFSETFROM:+0000
TZOFFSETTO:+0000
TZNAME:UTC
DTSTART:20230101T000000
END:STANDARD
END:VTIMEZONE
BEGIN:VEVENT
DTSTART;TZID=UTC:20241031T170000
DTEND;TZID=UTC:20241031T210000
DTSTAMP:20260421T121018
CREATED:20241031T093224Z
LAST-MODIFIED:20241031T093224Z
UID:6445-1730394000-1730408400@berlinbrewingco.com
SUMMARY:Boo! Karaoke
DESCRIPTION:Happy Halloween!!!\n\n\n \n\n\nJoin us tonight at the taproom for the first of our Halloween parties this week! We are open at 5 PM with Sweet Tiffany behind the bar. Boo! Karaoke kicks off at 6 PM. Costumes are highly encouraged! So\, get ready to sing us your creepiest songs\, and let’s have a spooktacular evening! 🍻🎤🎃👻 \n\n\n \n\n\nCheers!!\n\n\n \n\n\n#HalloweenFun #KaraokeNight #taproomvibes #beerstagram #coldbeer #craftbeerlover #beer #craftbeerculture #craftbeerlife #supportlocal #craftbeercommunity #craftbeerculture #halloweenkaraokeparty
URL:https://berlinbrewingco.com/events/boo-karaoke/
LOCATION:Berlin Brewing Company\, 220 S. White Horse Pike\, Berlin\, NJ\, 08009\, United States
CATEGORIES:Social Gathering
ATTACH;FMTTYPE=image/jpeg:https://berlinbrewingco.com/wp-content/uploads/2024/10/462545885_575087484974778_3159277567681832123_n.jpg
END:VEVENT
END:VCALENDAR