BEGIN:VCALENDAR
VERSION:2.0
PRODID:-// - ECPv6.15.20//NONSGML v1.0//EN
CALSCALE:GREGORIAN
METHOD:PUBLISH
X-ORIGINAL-URL:https://berlinbrewingco.com
X-WR-CALDESC:Events for 
REFRESH-INTERVAL;VALUE=DURATION:PT1H
X-Robots-Tag:noindex
X-PUBLISHED-TTL:PT1H
BEGIN:VTIMEZONE
TZID:UTC
BEGIN:STANDARD
TZOFFSETFROM:+0000
TZOFFSETTO:+0000
TZNAME:UTC
DTSTART:20230101T000000
END:STANDARD
END:VTIMEZONE
BEGIN:VEVENT
DTSTART;TZID=UTC:20240518T130000
DTEND;TZID=UTC:20240518T180000
DTSTAMP:20260423T114424
CREATED:20240518T140917Z
LAST-MODIFIED:20240518T141134Z
UID:6121-1716037200-1716055200@berlinbrewingco.com
SUMMARY:Cooking For A Cause
DESCRIPTION:Join us for a cooking competition! All proceeds benefit Puzzle Pieces Squared\, offering autism support and advocacy to families throughout the Delaware Valley. \nCooking Competition • Live Music • Food • Beer • Basket Raffle • Celebrity Judges •  Games and more!
URL:https://berlinbrewingco.com/events/cooking-for-a-cause/
LOCATION:NJ
CATEGORIES:Festival,Music,Social Gathering
ATTACH;FMTTYPE=image/jpeg:https://berlinbrewingco.com/wp-content/uploads/2024/05/Wing-Off-SM-Ad.jpg
END:VEVENT
END:VCALENDAR