BEGIN:VCALENDAR
VERSION:2.0
PRODID:-// - ECPv6.15.20//NONSGML v1.0//EN
CALSCALE:GREGORIAN
METHOD:PUBLISH
X-ORIGINAL-URL:https://berlinbrewingco.com
X-WR-CALDESC:Events for 
REFRESH-INTERVAL;VALUE=DURATION:PT1H
X-Robots-Tag:noindex
X-PUBLISHED-TTL:PT1H
BEGIN:VTIMEZONE
TZID:UTC
BEGIN:STANDARD
TZOFFSETFROM:+0000
TZOFFSETTO:+0000
TZNAME:UTC
DTSTART:20230101T000000
END:STANDARD
END:VTIMEZONE
BEGIN:VEVENT
DTSTART;TZID=UTC:20240330T180000
DTEND;TZID=UTC:20240330T220000
DTSTAMP:20260421T052730
CREATED:20240326T223159Z
LAST-MODIFIED:20240328T212433Z
UID:6034-1711821600-1711836000@berlinbrewingco.com
SUMMARY:Quixote Project Trio with Los Gordos Rosticeria y Deli
DESCRIPTION:Hey there! If you’re looking for some fun this Saturday\, you won’t want to miss the toe-tapping jam with Quixote Project Trio at 6 pm. And be sure to come hungry because Los Gordos Rosticeria y Deli will be there with some delicious food. So come on down and join us for a great time! \nCheers!
URL:https://berlinbrewingco.com/events/quixote-project-trio-with-los-gordos-rosticeria-y-deli/
LOCATION:Berlin Brewing Company\, 220 S. White Horse Pike\, Berlin\, NJ\, 08009\, United States
CATEGORIES:Food Truck,Music
ATTACH;FMTTYPE=image/jpeg:https://berlinbrewingco.com/wp-content/uploads/2024/03/Quixote-Project-Trio-0324.jpg
END:VEVENT
END:VCALENDAR