BEGIN:VCALENDAR
VERSION:2.0
PRODID:-// - ECPv6.15.20//NONSGML v1.0//EN
CALSCALE:GREGORIAN
METHOD:PUBLISH
X-ORIGINAL-URL:https://berlinbrewingco.com
X-WR-CALDESC:Events for 
REFRESH-INTERVAL;VALUE=DURATION:PT1H
X-Robots-Tag:noindex
X-PUBLISHED-TTL:PT1H
BEGIN:VTIMEZONE
TZID:UTC
BEGIN:STANDARD
TZOFFSETFROM:+0000
TZOFFSETTO:+0000
TZNAME:UTC
DTSTART:20230101T000000
END:STANDARD
END:VTIMEZONE
BEGIN:VEVENT
DTSTART;TZID=UTC:20240317T170000
DTEND;TZID=UTC:20240317T210000
DTSTAMP:20260421T094237
CREATED:20240211T185158Z
LAST-MODIFIED:20240211T185315Z
UID:6001-1710694800-1710709200@berlinbrewingco.com
SUMMARY:St. Paddy's Day Party with Tell All Your Friends & The Noodle Works
DESCRIPTION:Join us on Sunday\, March 17th\, for our St. Patrick’s Day party featuring Tell All Your Friends and The Noodle Works food truck! \nThis is Tell All Your Friends’ first-anniversary show\, so come out and celebrate with us. TAYF always gives unforgettable performances you don’t want to miss! \nThe entry fee is $5.00 at the door. \nWe look forward to seeing you all there. Cheers!
URL:https://berlinbrewingco.com/events/6001/
LOCATION:Berlin Brewing Company\, 220 S. White Horse Pike\, Berlin\, NJ\, 08009\, United States
CATEGORIES:Music
ATTACH;FMTTYPE=image/jpeg:https://berlinbrewingco.com/wp-content/uploads/2024/02/380800781_166134729868090_488108047206411032_n.jpg
END:VEVENT
END:VCALENDAR