BEGIN:VCALENDAR
VERSION:2.0
PRODID:-// - ECPv6.15.20//NONSGML v1.0//EN
CALSCALE:GREGORIAN
METHOD:PUBLISH
X-ORIGINAL-URL:https://berlinbrewingco.com
X-WR-CALDESC:Events for 
REFRESH-INTERVAL;VALUE=DURATION:PT1H
X-Robots-Tag:noindex
X-PUBLISHED-TTL:PT1H
BEGIN:VTIMEZONE
TZID:UTC
BEGIN:STANDARD
TZOFFSETFROM:+0000
TZOFFSETTO:+0000
TZNAME:UTC
DTSTART:20230101T000000
END:STANDARD
END:VTIMEZONE
BEGIN:VEVENT
DTSTART;TZID=UTC:20240309T200000
DTEND;TZID=UTC:20240309T235900
DTSTAMP:20260421T094747
CREATED:20240211T172749Z
LAST-MODIFIED:20240211T172749Z
UID:5995-1710014400-1710028740@berlinbrewingco.com
SUMMARY:As We Become Ghosts
DESCRIPTION:We are thrilled to announce that AS WE BECOME GHOSTS & MONTECARLO are bringing their fiery performance to our taproom on Saturday\, March 9th at 8 PM! Philly Rock Live‘s Kevin and Johnny E will be there to host the event\, and Brotherly Love Cheesesteak Spring Roll Co. will be there with their delicious food\, making it an unforgettable show. \nUnfortunately\, due to the high demand\, tickets are sold out. \nSee you at the show. Cheers! \n 
URL:https://berlinbrewingco.com/events/as-we-become-ghosts/
LOCATION:Berlin Brewing Company\, 220 S. White Horse Pike\, Berlin\, NJ\, 08009\, United States
CATEGORIES:Music
ATTACH;FMTTYPE=image/jpeg:https://berlinbrewingco.com/wp-content/uploads/2024/02/As-We-Become-Ghosts-Monticarlo-Social-Media-Event-photo.jpg
END:VEVENT
END:VCALENDAR