BEGIN:VCALENDAR
VERSION:2.0
PRODID:-// - ECPv6.15.20//NONSGML v1.0//EN
CALSCALE:GREGORIAN
METHOD:PUBLISH
X-ORIGINAL-URL:https://berlinbrewingco.com
X-WR-CALDESC:Events for 
REFRESH-INTERVAL;VALUE=DURATION:PT1H
X-Robots-Tag:noindex
X-PUBLISHED-TTL:PT1H
BEGIN:VTIMEZONE
TZID:UTC
BEGIN:STANDARD
TZOFFSETFROM:+0000
TZOFFSETTO:+0000
TZNAME:UTC
DTSTART:20230101T000000
END:STANDARD
END:VTIMEZONE
BEGIN:VEVENT
DTSTART;TZID=UTC:20240224T200000
DTEND;TZID=UTC:20240224T235900
DTSTAMP:20260421T131441
CREATED:20240211T155451Z
LAST-MODIFIED:20240211T161209Z
UID:5979-1708804800-1708819140@berlinbrewingco.com
SUMMARY:Tell All Your Friends
DESCRIPTION:Join us for an exciting evening of rock music by Tell All Your Friends band at the taproom on Saturday\, February 24th. This all-ages event is going to be fantastic\, and we are thrilled to welcome  The Walking Taco food truck to the BBCo family! \nThere will be delicious food\, great beer\, and live music\, so you don’t want to miss out on this fantastic event. The entry fee is $5.00 at the door. \nWe look forward to seeing you all there! \n  
URL:https://berlinbrewingco.com/events/tell-all-your-friends/
LOCATION:Berlin Brewing Company\, 220 S. White Horse Pike\, Berlin\, NJ\, 08009\, United States
CATEGORIES:Music
ATTACH;FMTTYPE=image/jpeg:https://berlinbrewingco.com/wp-content/uploads/2024/02/380800781_166134729868090_488108047206411032_n.jpg
END:VEVENT
END:VCALENDAR